View In:
ArcGIS JavaScript
ArcGIS Online Map Viewer
ArcGIS Earth
ArcMap
ArcGIS Pro
View Footprint In:
ArcGIS Online Map Viewer
Service Description: ZIS_Annexe2_modifiée
Map Name: Layers
Legend
All Layers and Tables
Layers:
Description:
Copyright Text: © Gouvernement du Québec
Spatial Reference:
102100
(3857)
Single Fused Map Cache: true
Tile Info:
- Height: 256
- Width: 256
- DPI: 96
-
Levels of Detail: 24
-
Level ID: 0
[ Start Tile, End Tile ]
- Resolution: 156543.03392800014
- Scale: 5.91657527591555E8
-
Level ID: 1
[ Start Tile, End Tile ]
- Resolution: 78271.51696399994
- Scale: 2.95828763795777E8
-
Level ID: 2
[ Start Tile, End Tile ]
- Resolution: 39135.75848200009
- Scale: 1.47914381897889E8
-
Level ID: 3
[ Start Tile, End Tile ]
- Resolution: 19567.87924099992
- Scale: 7.3957190948944E7
-
Level ID: 4
[ Start Tile, End Tile ]
- Resolution: 9783.93962049996
- Scale: 3.6978595474472E7
-
Level ID: 5
[ Start Tile, End Tile ]
- Resolution: 4891.96981024998
- Scale: 1.8489297737236E7
- Format: PNG8
- Compression Quality: 0.0
- Origin: X: -2.0037508342787E7
Y: 2.0037508342787E7
- Spatial Reference: 102100
(3857)
Initial Extent:
XMin: -8638931.523757368
YMin: 5881237.289726564
XMax: -8087979.316642631
YMax: 6202209.446684514
Spatial Reference: 102100
(3857)
Full Extent:
XMin: -8855685.4485
YMin: 5621209.761399999
XMax: -7871225.391899999
YMax: 6197259.960699998
Spatial Reference: 102100
(3857)
Units: esriMeters
Supported Image Format Types: PNG32,PNG24,PNG,JPG,DIB,TIFF,EMF,PS,PDF,GIF,SVG,SVGZ,BMP
Document Info:
Title: ZIS_Annexe2_modifiee
Author:
Comments: Cette couche présente la délimitation du périmètre de la zone inondée 2017-2019 modifiée se trouvant dans l’annexe 2 du décret nommé « Déclaration d’une zone d’intervention spéciale afin de favoriser une meilleure gestion des zones inondables ». Cette zone a été créée à partir de diverses sources de données présentant les zones inondées de 2017 et de 2019.
Le service Web est destiné au public.
Subject: ZIS_Annexe2_modifiee
Category:
Keywords: ZIS
AntialiasingMode: None
TextAntialiasingMode: Force
Supports Dynamic Layers: false
MaxRecordCount: 1000
MaxImageHeight: 4096
MaxImageWidth: 4096
Supported Query Formats: JSON, geoJSON
Supports Query Data Elements:
Min Scale: 1.8489297737236E7
Max Scale: 4513.988705
Min LOD: 5
Max LOD: 17
Supports Datum Transformation: true
Child Resources:
Info
Supported Operations:
Export Map
Identify
QueryDomains
QueryLegends
Find
Return Updates