<?xml version="1.0" encoding="UTF-8" standalone="no"?>
<metadata xml:lang="fr">
  <Esri>
    <CreaDate>20230608</CreaDate>
    <CreaTime>18160100</CreaTime>
    <ArcGISFormat>1.0</ArcGISFormat>
    <SyncOnce>FALSE</SyncOnce>
    <DataProperties>
      <lineage>
        <Process Date="20230608" Time="181601" ToolSource="c:\program files\arcgis\pro\Resources\ArcToolbox\toolboxes\Data Management Tools.tbx\CalculateStatistics">CalculateStatistics C:\DMU\utilisation_territoire\utilisation_territoire_2020\COUCHE_COMPLETE2020_10m.gdb\ut_avec_mh 1 1 # OVERWRITE "Jeu d’entités"</Process>
        <Process Date="20230608" Time="182033" ToolSource="c:\program files\arcgis\pro\Resources\ArcToolbox\toolboxes\Data Management Tools.tbx\BuildPyramids">BuildPyramids C:\DMU\utilisation_territoire\utilisation_territoire_2020\COUCHE_COMPLETE2020_10m.gdb\ut_avec_mh -1 NONE "La plus proche" DEFAULT 75 OVERWRITE</Process>
        <Process Date="20230608" Time="182034" ToolSource="c:\program files\arcgis\pro\Resources\ArcToolbox\toolboxes\Data Management Tools.tbx\JoinField">JoinField C:\DMU\utilisation_territoire\utilisation_territoire_2020\COUCHE_COMPLETE2020_10m.gdb\ut_avec_mh Value C:\DMU\utilisation_territoire\utilisation_territoire_2020\UT_classes.gdb\codesut_total CODE_UT CODE_UT;classe_detaillee;description;CODE_CAT;DESC_CAT;CODE_RCL_A;DESC_RCL_A;CODE_RCL_B;DESC_RCL_B;DESC_MH3;DESC_MH5;CODE_PESTICIDES;DESC_PESTICIDES;CODE_Benthos;DESC_Benthos;CODE_BenthosPAC;DESC_BenthosPAC;R;G;B;rgb;mh;ut "Sélectionner les champs de transfert" #</Process>
        <Process Date="20230721" Time="094819" ToolSource="c:\program files\arcgis\pro\Resources\ArcToolbox\toolboxes\Data Management Tools.tbx\CopyMultiple">CopyMultiple "\\prod\sysapp\Projets_producteurs\Utilisation_territoire\utilisation_territoire_2020\versionAtlasGeomatique\utilisation_territoire.gdb\utilisation_territoire RasterDataset" G:\Donnees\UtilisationTerritoire\2020\utilisation_territoire.gdb utilisation_territoire "utilisation_territoire RasterDataset utilisation_territoire #"</Process>
        <Process Date="20230726" Time="145443" ToolSource="c:\program files\arcgis\pro\Resources\ArcToolbox\toolboxes\Data Management Tools.tbx\CopyMultiple">CopyMultiple "G:\Donnees\UtilisationTerritoire\2020\utilisation_territoire_test.gdb\utilisation_territoire RasterDataset" G:\Donnees\UtilisationTerritoire\2020\utilisation_territoire_test.gdb utilisation_territoire_1 "utilisation_territoire RasterDataset utilisation_territoire_1 #"</Process>
        <Process Date="20230726" Time="150153" ToolSource="c:\program files\arcgis\pro\Resources\ArcToolbox\toolboxes\Data Management Tools.tbx\Rename">Rename G:\Donnees\UtilisationTerritoire\2020\utilisation_territoire_test.gdb\utilisation_territoire_1 G:\Donnees\UtilisationTerritoire\2020\utilisation_territoire_test.gdb\utilisation_territoire_gen RasterDataset</Process>
        <Process Date="20230726" Time="151320" ToolSource="c:\program files\arcgis\pro\Resources\ArcToolbox\toolboxes\Data Management Tools.tbx\Rename">Rename G:\Donnees\UtilisationTerritoire\2020\utilisation_territoire_test.gdb\utilisation_territoire_gen G:\Donnees\UtilisationTerritoire\2020\utilisation_territoire_test.gdb\utilisation_territoire_gen_2020 RasterDataset</Process>
        <Process Date="20230727" Time="100513" ToolSource="c:\program files\arcgis\pro\Resources\ArcToolbox\Toolboxes\Data Management Tools.tbx\CopyMultiple">CopyMultiple "G:\Donnees\UtilisationTerritoire\2020\utilisation_territoire_test.gdb\utilisation_territoire_det_2020 RasterDataset;G:\Donnees\UtilisationTerritoire\2020\utilisation_territoire_test.gdb\utilisation_territoire_gen_2020 RasterDataset" \\s00ags3\RacineG\Donnees\FGDB\Utilisation_territoire_svimg.gdb utilisation_territoire_det_2020;utilisation_territoire_gen_2020 "utilisation_territoire_det_2020 RasterDataset utilisation_territoire_det_2020 #;utilisation_territoire_gen_2020 RasterDataset utilisation_territoire_gen_2020 #"</Process>
      </lineage>
      <itemProps>
        <itemName Sync="TRUE">utilisation_territoire</itemName>
        <imsContentType Sync="TRUE">002</imsContentType>
        <nativeExtBox>
          <westBL Sync="TRUE">-830370.000000</westBL>
          <eastBL Sync="TRUE">787470.000000</eastBL>
          <southBL Sync="TRUE">117960.000000</southBL>
          <northBL Sync="TRUE">2091060.000000</northBL>
          <exTypeCode Sync="TRUE">1</exTypeCode>
        </nativeExtBox>
        <itemLocation>
          <linkage Sync="TRUE">file://\\C00046067\C$\DMU\utilisation_territoire\utilisation_territoire_2020\versionGeoguichet\utilisation_territoire_2020\utilisation_territoire.gdb</linkage>
          <protocol Sync="TRUE">Local Area Network</protocol>
        </itemLocation>
      </itemProps>
      <coordRef>
        <type Sync="TRUE">Projected</type>
        <geogcsn Sync="TRUE">GCS_North_American_1983</geogcsn>
        <csUnits Sync="TRUE">Linear Unit: Meter (1.000000)</csUnits>
        <projcsn Sync="TRUE">NAD_1983_Quebec_Lambert</projcsn>
        <peXml Sync="TRUE">&lt;ProjectedCoordinateSystem xsi:type='typens:ProjectedCoordinateSystem' xmlns:xsi='http://www.w3.org/2001/XMLSchema-instance' xmlns:xs='http://www.w3.org/2001/XMLSchema' xmlns:typens='http://www.esri.com/schemas/ArcGIS/3.0.0'&gt;&lt;WKT&gt;PROJCS[&amp;quot;NAD_1983_Quebec_Lambert&amp;quot;,GEOGCS[&amp;quot;GCS_North_American_1983&amp;quot;,DATUM[&amp;quot;D_North_American_1983&amp;quot;,SPHEROID[&amp;quot;GRS_1980&amp;quot;,6378137.0,298.257222101]],PRIMEM[&amp;quot;Greenwich&amp;quot;,0.0],UNIT[&amp;quot;Degree&amp;quot;,0.0174532925199433]],PROJECTION[&amp;quot;Lambert_Conformal_Conic&amp;quot;],PARAMETER[&amp;quot;False_Easting&amp;quot;,0.0],PARAMETER[&amp;quot;False_Northing&amp;quot;,0.0],PARAMETER[&amp;quot;Central_Meridian&amp;quot;,-68.5],PARAMETER[&amp;quot;Standard_Parallel_1&amp;quot;,46.0],PARAMETER[&amp;quot;Standard_Parallel_2&amp;quot;,60.0],PARAMETER[&amp;quot;Latitude_Of_Origin&amp;quot;,44.0],UNIT[&amp;quot;Meter&amp;quot;,1.0],AUTHORITY[&amp;quot;EPSG&amp;quot;,32198]]&lt;/WKT&gt;&lt;XOrigin&gt;-35683500&lt;/XOrigin&gt;&lt;YOrigin&gt;-29917500&lt;/YOrigin&gt;&lt;XYScale&gt;126209582.22625288&lt;/XYScale&gt;&lt;ZOrigin&gt;-100000&lt;/ZOrigin&gt;&lt;ZScale&gt;10000&lt;/ZScale&gt;&lt;MOrigin&gt;-100000&lt;/MOrigin&gt;&lt;MScale&gt;10000&lt;/MScale&gt;&lt;XYTolerance&gt;0.001&lt;/XYTolerance&gt;&lt;ZTolerance&gt;0.001&lt;/ZTolerance&gt;&lt;MTolerance&gt;0.001&lt;/MTolerance&gt;&lt;HighPrecision&gt;true&lt;/HighPrecision&gt;&lt;WKID&gt;32198&lt;/WKID&gt;&lt;LatestWKID&gt;32198&lt;/LatestWKID&gt;&lt;/ProjectedCoordinateSystem&gt;</peXml>
      </coordRef>
    </DataProperties>
    <SyncDate>20230613</SyncDate>
    <SyncTime>08580200</SyncTime>
    <ModDate>20230613</ModDate>
    <ModTime>08580200</ModTime>
  </Esri>
  <dataIdInfo>
    <envirDesc Sync="TRUE">Microsoft Windows 10 Version 10.0 (Build 19045) ; Esri ArcGIS 13.0.3.36057</envirDesc>
    <dataLang>
      <languageCode Sync="TRUE" value="fra"/>
      <countryCode Sync="TRUE" value="CAN"/>
    </dataLang>
    <idCitation>
      <resTitle Sync="TRUE">Utilisation_generale_du_territoire_2020</resTitle>
      <presForm>
        <PresFormCd Sync="TRUE" value="011"/>
      </presForm>
    </idCitation>
    <spatRpType>
      <SpatRepTypCd Sync="TRUE" value="002"/>
    </spatRpType>
    <dataExt>
      <geoEle>
        <GeoBndBox esriExtentType="search">
          <exTypeCode Sync="TRUE">1</exTypeCode>
          <westBL Sync="TRUE">-84.402146</westBL>
          <eastBL Sync="TRUE">-53.394604</eastBL>
          <northBL Sync="TRUE">62.843641</northBL>
          <southBL Sync="TRUE">44.513156</southBL>
        </GeoBndBox>
      </geoEle>
    </dataExt>
    <idAbs/>
    <searchKeys>
      <keyword>Utilisation du territoire</keyword>
      <keyword>Générale</keyword>
      <keyword>Anthropique</keyword>
      <keyword>Forestier</keyword>
      <keyword>Humide</keyword>
      <keyword>Aquatique</keyword>
      <keyword>Agricole</keyword>
      <keyword>Coupe et régénération</keyword>
      <keyword>Sol nu et lande</keyword>
      <keyword>MELCCFP</keyword>
      <keyword>DGSÉE</keyword>
      <keyword>DQMA</keyword>
      <keyword>DGCB</keyword>
    </searchKeys>
    <idPurp>Cette thématique présente les huit catégories générales permettant de regrouper les entités géographiques par vocation du territoire. Cette couche d’informations constitue un produit à valeur ajoutée réalisé à partir d’un ensemble de données géographiques disponibles selon différentes ententes, notamment celle établie dans le cadre de l’entente ACRIgéo.</idPurp>
    <idCredit/>
    <resConst>
      <Consts>
        <useLimit/>
      </Consts>
    </resConst>
  </dataIdInfo>
  <mdLang>
    <languageCode Sync="TRUE" value="fra"/>
    <countryCode Sync="TRUE" value="CAN"/>
  </mdLang>
  <distInfo>
    <distFormat>
      <formatName Sync="TRUE">Jeu de données raster de géodatabase fichier</formatName>
    </distFormat>
  </distInfo>
  <mdHrLv>
    <ScopeCd Sync="TRUE" value="005"/>
  </mdHrLv>
  <mdHrLvName Sync="TRUE">dataset</mdHrLvName>
  <refSysInfo>
    <RefSystem>
      <refSysID>
        <identCode Sync="TRUE" code="32198"/>
        <idCodeSpace Sync="TRUE">EPSG</idCodeSpace>
        <idVersion Sync="TRUE">8.3.1(8.1.0)</idVersion>
      </refSysID>
    </RefSystem>
  </refSysInfo>
  <spdoinfo>
    <rastinfo>
      <rasttype Sync="TRUE">Pixel</rasttype>
      <rowcount Sync="TRUE">197310</rowcount>
      <colcount Sync="TRUE">161784</colcount>
      <rastxsz Sync="TRUE">10.000000</rastxsz>
      <rastysz Sync="TRUE">10.000000</rastysz>
      <rastbpp Sync="TRUE">16</rastbpp>
      <vrtcount Sync="TRUE">1</vrtcount>
      <rastorig Sync="TRUE">Upper Left</rastorig>
      <rastcmap Sync="TRUE">TRUE</rastcmap>
      <rastcomp Sync="TRUE">LZ77</rastcomp>
      <rastband Sync="TRUE">1</rastband>
      <rastdtyp Sync="TRUE">pixel codes</rastdtyp>
      <rastifor Sync="TRUE">FGDBR</rastifor>
      <rastplyr Sync="TRUE">TRUE</rastplyr>
    </rastinfo>
  </spdoinfo>
  <spref>
    <horizsys>
      <planar>
        <planci>
          <plance Sync="TRUE">row and column</plance>
          <coordrep>
            <absres Sync="TRUE">10.000000</absres>
            <ordres Sync="TRUE">10.000000</ordres>
          </coordrep>
        </planci>
      </planar>
    </horizsys>
  </spref>
  <eainfo>
    <detailed Name="VAT_utilisation_territoire">
      <enttyp>
        <enttypl Sync="TRUE">VAT_utilisation_territoire</enttypl>
        <enttypt Sync="TRUE">Table</enttypt>
        <enttypc Sync="TRUE">1844</enttypc>
      </enttyp>
      <attr>
        <attrlabl Sync="TRUE">OBJECTID</attrlabl>
        <attalias Sync="TRUE">OBJECTID</attalias>
        <attrtype Sync="TRUE">OID</attrtype>
        <attwidth Sync="TRUE">4</attwidth>
        <atprecis Sync="TRUE">0</atprecis>
        <attscale Sync="TRUE">0</attscale>
        <attrdef Sync="TRUE">Internal feature number.</attrdef>
        <attrdefs Sync="TRUE">Esri</attrdefs>
        <attrdomv>
          <udom Sync="TRUE">Sequential unique whole numbers that are automatically generated.</udom>
        </attrdomv>
      </attr>
      <attr>
        <attrlabl Sync="TRUE">Value</attrlabl>
        <attalias Sync="TRUE">Value</attalias>
        <attrtype Sync="TRUE">Integer</attrtype>
        <attwidth Sync="TRUE">4</attwidth>
        <atprecis Sync="TRUE">0</atprecis>
        <attscale Sync="TRUE">0</attscale>
      </attr>
      <attr>
        <attrlabl Sync="TRUE">Count</attrlabl>
        <attalias Sync="TRUE">Count</attalias>
        <attrtype Sync="TRUE">Double</attrtype>
        <attwidth Sync="TRUE">8</attwidth>
        <atprecis Sync="TRUE">0</atprecis>
        <attscale Sync="TRUE">0</attscale>
      </attr>
      <attr>
        <attrlabl Sync="TRUE">CODE_UT</attrlabl>
        <attalias Sync="TRUE">CODE_UT</attalias>
        <attrtype Sync="TRUE">Integer</attrtype>
        <attwidth Sync="TRUE">4</attwidth>
        <atprecis Sync="TRUE">0</atprecis>
        <attscale Sync="TRUE">0</attscale>
      </attr>
      <attr>
        <attrlabl Sync="TRUE">classe_detaillee</attrlabl>
        <attalias Sync="TRUE">classe_detaillee</attalias>
        <attrtype Sync="TRUE">String</attrtype>
        <attwidth Sync="TRUE">150</attwidth>
        <atprecis Sync="TRUE">0</atprecis>
        <attscale Sync="TRUE">0</attscale>
      </attr>
      <attr>
        <attrlabl Sync="TRUE">description</attrlabl>
        <attalias Sync="TRUE">description</attalias>
        <attrtype Sync="TRUE">String</attrtype>
        <attwidth Sync="TRUE">255</attwidth>
        <atprecis Sync="TRUE">0</atprecis>
        <attscale Sync="TRUE">0</attscale>
      </attr>
      <attr>
        <attrlabl Sync="TRUE">CODE_CAT</attrlabl>
        <attalias Sync="TRUE">CODE_CAT</attalias>
        <attrtype Sync="TRUE">SmallInteger</attrtype>
        <attwidth Sync="TRUE">2</attwidth>
        <atprecis Sync="TRUE">0</atprecis>
        <attscale Sync="TRUE">0</attscale>
      </attr>
      <attr>
        <attrlabl Sync="TRUE">DESC_CAT</attrlabl>
        <attalias Sync="TRUE">DESC_CAT</attalias>
        <attrtype Sync="TRUE">String</attrtype>
        <attwidth Sync="TRUE">50</attwidth>
        <atprecis Sync="TRUE">0</atprecis>
        <attscale Sync="TRUE">0</attscale>
      </attr>
      <attr>
        <attrlabl Sync="TRUE">CODE_RCL_A</attrlabl>
        <attalias Sync="TRUE">CODE_RCL_A</attalias>
        <attrtype Sync="TRUE">SmallInteger</attrtype>
        <attwidth Sync="TRUE">2</attwidth>
        <atprecis Sync="TRUE">0</atprecis>
        <attscale Sync="TRUE">0</attscale>
      </attr>
      <attr>
        <attrlabl Sync="TRUE">DESC_RCL_A</attrlabl>
        <attalias Sync="TRUE">DESC_RCL_A</attalias>
        <attrtype Sync="TRUE">String</attrtype>
        <attwidth Sync="TRUE">50</attwidth>
        <atprecis Sync="TRUE">0</atprecis>
        <attscale Sync="TRUE">0</attscale>
      </attr>
      <attr>
        <attrlabl Sync="TRUE">CODE_RCL_B</attrlabl>
        <attalias Sync="TRUE">CODE_RCL_B</attalias>
        <attrtype Sync="TRUE">SmallInteger</attrtype>
        <attwidth Sync="TRUE">2</attwidth>
        <atprecis Sync="TRUE">0</atprecis>
        <attscale Sync="TRUE">0</attscale>
      </attr>
      <attr>
        <attrlabl Sync="TRUE">DESC_RCL_B</attrlabl>
        <attalias Sync="TRUE">DESC_RCL_B</attalias>
        <attrtype Sync="TRUE">String</attrtype>
        <attwidth Sync="TRUE">50</attwidth>
        <atprecis Sync="TRUE">0</atprecis>
        <attscale Sync="TRUE">0</attscale>
      </attr>
      <attr>
        <attrlabl Sync="TRUE">DESC_MH3</attrlabl>
        <attalias Sync="TRUE">DESC_MH3</attalias>
        <attrtype Sync="TRUE">String</attrtype>
        <attwidth Sync="TRUE">255</attwidth>
        <atprecis Sync="TRUE">0</atprecis>
        <attscale Sync="TRUE">0</attscale>
      </attr>
      <attr>
        <attrlabl Sync="TRUE">DESC_MH5</attrlabl>
        <attalias Sync="TRUE">DESC_MH5</attalias>
        <attrtype Sync="TRUE">String</attrtype>
        <attwidth Sync="TRUE">255</attwidth>
        <atprecis Sync="TRUE">0</atprecis>
        <attscale Sync="TRUE">0</attscale>
      </attr>
      <attr>
        <attrlabl Sync="TRUE">CODE_PESTICIDES</attrlabl>
        <attalias Sync="TRUE">CODE_PESTICIDES</attalias>
        <attrtype Sync="TRUE">SmallInteger</attrtype>
        <attwidth Sync="TRUE">2</attwidth>
        <atprecis Sync="TRUE">0</atprecis>
        <attscale Sync="TRUE">0</attscale>
      </attr>
      <attr>
        <attrlabl Sync="TRUE">DESC_PESTICIDES</attrlabl>
        <attalias Sync="TRUE">DESC_PESTICIDES</attalias>
        <attrtype Sync="TRUE">String</attrtype>
        <attwidth Sync="TRUE">255</attwidth>
        <atprecis Sync="TRUE">0</atprecis>
        <attscale Sync="TRUE">0</attscale>
      </attr>
      <attr>
        <attrlabl Sync="TRUE">CODE_Benthos</attrlabl>
        <attalias Sync="TRUE">CODE_Benthos</attalias>
        <attrtype Sync="TRUE">SmallInteger</attrtype>
        <attwidth Sync="TRUE">2</attwidth>
        <atprecis Sync="TRUE">0</atprecis>
        <attscale Sync="TRUE">0</attscale>
      </attr>
      <attr>
        <attrlabl Sync="TRUE">DESC_Benthos</attrlabl>
        <attalias Sync="TRUE">DESC_Benthos</attalias>
        <attrtype Sync="TRUE">String</attrtype>
        <attwidth Sync="TRUE">255</attwidth>
        <atprecis Sync="TRUE">0</atprecis>
        <attscale Sync="TRUE">0</attscale>
      </attr>
      <attr>
        <attrlabl Sync="TRUE">CODE_BenthosPAC</attrlabl>
        <attalias Sync="TRUE">CODE_BenthosPAC</attalias>
        <attrtype Sync="TRUE">SmallInteger</attrtype>
        <attwidth Sync="TRUE">2</attwidth>
        <atprecis Sync="TRUE">0</atprecis>
        <attscale Sync="TRUE">0</attscale>
      </attr>
      <attr>
        <attrlabl Sync="TRUE">DESC_BenthosPAC</attrlabl>
        <attalias Sync="TRUE">DESC_BenthosPAC</attalias>
        <attrtype Sync="TRUE">String</attrtype>
        <attwidth Sync="TRUE">255</attwidth>
        <atprecis Sync="TRUE">0</atprecis>
        <attscale Sync="TRUE">0</attscale>
      </attr>
      <attr>
        <attrlabl Sync="TRUE">R</attrlabl>
        <attalias Sync="TRUE">R</attalias>
        <attrtype Sync="TRUE">Integer</attrtype>
        <attwidth Sync="TRUE">4</attwidth>
        <atprecis Sync="TRUE">0</atprecis>
        <attscale Sync="TRUE">0</attscale>
      </attr>
      <attr>
        <attrlabl Sync="TRUE">G</attrlabl>
        <attalias Sync="TRUE">G</attalias>
        <attrtype Sync="TRUE">Integer</attrtype>
        <attwidth Sync="TRUE">4</attwidth>
        <atprecis Sync="TRUE">0</atprecis>
        <attscale Sync="TRUE">0</attscale>
      </attr>
      <attr>
        <attrlabl Sync="TRUE">B</attrlabl>
        <attalias Sync="TRUE">B</attalias>
        <attrtype Sync="TRUE">Integer</attrtype>
        <attwidth Sync="TRUE">4</attwidth>
        <atprecis Sync="TRUE">0</atprecis>
        <attscale Sync="TRUE">0</attscale>
      </attr>
      <attr>
        <attrlabl Sync="TRUE">rgb</attrlabl>
        <attalias Sync="TRUE">rgb</attalias>
        <attrtype Sync="TRUE">String</attrtype>
        <attwidth Sync="TRUE">15</attwidth>
        <atprecis Sync="TRUE">0</atprecis>
        <attscale Sync="TRUE">0</attscale>
      </attr>
      <attr>
        <attrlabl Sync="TRUE">mh</attrlabl>
        <attalias Sync="TRUE">mh</attalias>
        <attrtype Sync="TRUE">Integer</attrtype>
        <attwidth Sync="TRUE">4</attwidth>
        <atprecis Sync="TRUE">0</atprecis>
        <attscale Sync="TRUE">0</attscale>
      </attr>
      <attr>
        <attrlabl Sync="TRUE">ut</attrlabl>
        <attalias Sync="TRUE">ut</attalias>
        <attrtype Sync="TRUE">Integer</attrtype>
        <attwidth Sync="TRUE">4</attwidth>
        <atprecis Sync="TRUE">0</atprecis>
        <attscale Sync="TRUE">0</attscale>
      </attr>
    </detailed>
  </eainfo>
  <mdDateSt Sync="TRUE">20230613</mdDateSt>
</metadata>
