{
 "currentVersion": 10.81,
 "serviceDescription": "Public/Utilisation_detaillee_du_territoire_2020",
 "name": "Public/Utilisation_detaillee_du_territoire_2020",
 "description": "",
 "extent": {
  "xmin": -830370,
  "ymin": 117960,
  "xmax": 787470,
  "ymax": 2091060,
  "spatialReference": {
   "wkid": 32198,
   "latestWkid": 32198
  }
 },
 "initialExtent": {
  "xmin": -830370,
  "ymin": 117960,
  "xmax": 787470,
  "ymax": 2091060,
  "spatialReference": {
   "wkid": 32198,
   "latestWkid": 32198
  }
 },
 "fullExtent": {
  "xmin": -830370,
  "ymin": 117960,
  "xmax": 787470,
  "ymax": 2091060,
  "spatialReference": {
   "wkid": 32198,
   "latestWkid": 32198
  }
 },
 "pixelSizeX": 10,
 "pixelSizeY": 10,
 "datasetFormat": "FGDBR",
 "uncompressedSize": 63843202080,
 "blockWidth": 128,
 "blockHeight": 128,
 "compressionType": "LZ77",
 "bandNames": [
  "Band_1"
 ],
 "allowCopy": true,
 "allowAnalysis": true,
 "bandCount": 1,
 "pixelType": "U16",
 "minPixelSize": 0,
 "maxPixelSize": 0,
 "copyrightText": "",
 "serviceDataType": "esriImageServiceDataTypeThematic",
 "serviceSourceType": "esriImageServiceSourceTypeDataset",
 "minValues": [
  20
 ],
 "maxValues": [
  9999
 ],
 "meanValues": [
  852.8735320179925
 ],
 "stdvValues": [
  1915.0112644270516
 ],
 "objectIdField": "",
 "fields": [],
 "capabilities": "Image,Metadata,Mensuration",
 "defaultMosaicMethod": "Center",
 "allowedMosaicMethods": "",
 "sortField": "",
 "sortValue": null,
 "sortAscending": true,
 "mosaicOperator": "First",
 "defaultCompressionQuality": 75,
 "defaultResamplingMethod": "Nearest",
 "maxImageHeight": 4100,
 "maxImageWidth": 15000,
 "allowRasterFunction": true,
 "rasterFunctionInfos": [
  {
   "name": "None",
   "description": "",
   "help": ""
  }
 ],
 "rasterTypeInfos": [
  {
   "name": "Raster Dataset",
   "description": "Supports all ArcGIS Raster Datasets",
   "help": ""
  }
 ],
 "mensurationCapabilities": "Basic",
 "hasHistograms": true,
 "hasColormap": false,
 "hasRasterAttributeTable": true,
 "minScale": 0,
 "maxScale": 0,
 "exportTilesAllowed": false,
 "hasMultidimensions": false,
 "supportsStatistics": false,
 "supportsAdvancedQueries": false,
 "editFieldsInfo": null,
 "ownershipBasedAccessControlForRasters": null,
 "allowComputeTiePoints": false,
 "useStandardizedQueries": true,
 "advancedQueryCapabilities": {
  "useStandardizedQueries": true,
  "supportsStatistics": false,
  "supportsOrderBy": false,
  "supportsDistinct": false,
  "supportsPagination": false
 },
 "spatialReference": {
  "wkid": 32198,
  "latestWkid": 32198
 }
}
